BEGIN:VCALENDAR
VERSION:2.0
PRODID:icalendar-ruby
CALSCALE:GREGORIAN
BEGIN:VEVENT
DTSTAMP:20260424T093320Z
UID:b9fbdbd8-fc82-4bc2-b567-1b119125f2f4
DTSTART;TZID=Pacific/Auckland:20260426T140000
DTEND;TZID=Pacific/Auckland:20260426T143000
DESCRIPTION:Property ID# 604709
SUMMARY:Openhome for 64 Airlie Road\, Plimmerton
END:VEVENT
END:VCALENDAR
